BEGIN:VCALENDAR
VERSION:2.0
PRODID:icalendar-ruby
CALSCALE:GREGORIAN
METHOD:PUBLISH
BEGIN:VEVENT
DTSTAMP:20260424T152852Z
UID:11-1475685@evansvillevineyard.org
DTSTART:20261101T160000Z
DTEND:20261101T173000Z
CLASS:PUBLIC
CREATED:20260424T091539
DESCRIPTION:Join us for our weekly service!  We'd love to meet you!
LAST-MODIFIED:20260424T091539
LOCATION:The Vineyard
SUMMARY:Sunday Service
URL;VALUE=URI:https://evansvillevineyard.org/events/sunday-service/2026-11-
 01
ATTACH;FILENAME=SUNDAY-SERVICE.png;FMTTYPE=image/png:https://dq5pwpg1q8ru0.
 cloudfront.net/2022/10/02/15/14/23/41c16953-0d87-477b-a619-fd9c311982db/SU
 NDAY-SERVICE.png
END:VEVENT
END:VCALENDAR
