BEGIN:VCALENDAR
VERSION:2.0
PRODID:icalendar-ruby
CALSCALE:GREGORIAN
METHOD:PUBLISH
BEGIN:VEVENT
DTSTAMP:20260424T080147Z
UID:16-1474397@evansvillevineyard.org
DTSTART:20261007T233000Z
DTEND:20261008T010000Z
CLASS:PUBLIC
CREATED:20260423T205323
DESCRIPTION:Pastor Jeff Smith invites everyone to join his Bible Study at h
 is home on Wednesday nights!\nFeel free to contact Pastor Jeff Smith @ 812
 -455-6400 for more information.
LAST-MODIFIED:20260423T205323
LOCATION:
SUMMARY:Bible Study w/ Pastor Jeff
URL;VALUE=URI:https://evansvillevineyard.org/events/bible-study-w-pastor-je
 ff/2026-10-07
ATTACH;FILENAME=Jeff%27s-Bible-Study.png;FMTTYPE=image/png:https://dq5pwpg1
 q8ru0.cloudfront.net/2022/10/02/16/14/40/ea8cf6ac-a9bd-4aef-87a2-e9a24e8b5
 bba/Jeff%2527s-Bible-Study.png
END:VEVENT
END:VCALENDAR
